BEGIN:VCALENDAR
VERSION:2.0
X-WR-CALNAME:EventsCalendar
BEGIN:VEVENT
CATEGORIES:Event Category,Arts &amp; Culture,Event Category,CUNY,Event Category,Concerts,Event Type,Community,Event Type,Concert,Event Type,Performing Arts,Audience,Faculty,Audience,Graduate Students,Audience,Staff,Audience,Students,Audience,Visitors,Featured,Yes
DESCRIPTION:String players from the String Orchestra of New York City will delight us in sextets by Frank Bridge and Bohuslav Martinu.85299 Lehman College, Lehman College Art Gallery, Concerts in the Heights, String players, String Orchestra, Sextets, Frank Bridge, Bohuslav Martinu
DTSTAMP:20260424T025041
DTSTART:20250424T130000
DTEND:20250424T140000
LOCATION:Fine Arts - FA
SUMMARY;LANGUAGE=en-us:Concerts in the Heights - String Sextets
UID:28983414a206caf47bb3eeaf4787dc2d@www.lehman.cuny.edu
END:VEVENT
END:VCALENDAR
