BEGIN:VCALENDAR
VERSION:2.0
X-WR-CALNAME:EventsCalendar
BEGIN:VEVENT
CATEGORIES:Event Category,Conferences,Event Category,Lectures,Event Category,Live Events,Event Category,Panel Discussions,Event Type,Lectures,Event Type,Panel,Schools,School of Natural &amp; Social Sciences,Audience,Alumni,Audience,Faculty,Audience,Graduate Students,Audience,Staff,Audience,Students,Featured,Yes
DESCRIPTION:Winner of the National Prize for Arts and Sciences, the highest honor the Mexican Government awards for intellectual achievement, Carlos Marichal is globally known for his work on Latin American economic history. He has published numerous books on international relations, colonial history, and financial history. His book A Century of Debt Crises in Latin America: From Independence to the Great Depression, 1820-1930&amp;nbsp;published by Princeton University Press remains the most cited reference work on the history of Latin American external debt.Political Economy Conversations focus on relevant topics in theory, history, practice, and teaching of political economy. Hosted by the Department of Political Science and the School of Natural and Social Sciences, the series fosters a conversation with global leaders and scholars on capitalism, development, and globalization through political economy lenses.&amp;nbsp;&amp;nbsp;112509 globalization, development, capitalism, global leaders, political economy, Professor Graulau, El Colegio de M&amp;eacute;xico, Carlos Marichal, Political Science
DTSTAMP:20260423T170334
DTSTART:20260316T180000
DTEND:20260316T200000
LOCATION:Online
SUMMARY;LANGUAGE=en-us:Political Economy Conversations 2026
UID:6f8eca8ad122764b64ce7c525de0c024@www.lehman.cuny.edu
END:VEVENT
END:VCALENDAR
