BEGIN:VCALENDAR
VERSION:2.0
X-WR-CALNAME:EventsCalendar
BEGIN:VEVENT
CATEGORIES:Event Category,Arts &amp; Culture,Event Category,Festival &amp; Fairs,Event Category,Lehman Community,Event Type,Community,Audience,Faculty,Audience,Staff,Audience,Students,Featured,Yes
DESCRIPTION:Wednesday, November 19&amp;nbsp;CultureFEST, 3:30 - 5:30 PMLehman Center for the Performing Arts1st and 2nd floor lobbies&amp;nbsp;Join us for CultureFEST, the signature celebration of International Week hosted by the Office of International Programs &amp;amp; Community Engagement!CultureFEST brings together the vibrant cultures that make our campus and community so unique. Enjoy an afternoon filled with music, dance, art, and cultural showcases from around the world.This event highlights the beauty of global connection and celebrates the traditions, creativity, and stories that unite us across borders. CultureFEST is a chance to connect, learn, and celebrate our shared humanity, from students to faculty.Click on the following link to learn more about the other amazing events being hosted during International Week: https://bit.ly/IntlWeek2025.108519 International Week, CultureFest, Cultural celebration, Global cultures, Global learning
DTSTAMP:20260424T012644
DTSTART:20251119T153000
DTEND:20251119T173000
LOCATION:Concert Hall
SUMMARY;LANGUAGE=en-us:CultureFEST 2025
UID:999352cbb4173c578ae301734745932c@www.lehman.cuny.edu
END:VEVENT
END:VCALENDAR
